BEGIN:VCALENDAR
PRODID:-//Microsoft Corporation//Outlook 12.0 MIMEDIR//EN
VERSION:2.0
CALSCALE:GREGORIAN
BEGIN:VEVENT
UID: 6ef352d0-c548-4e53-9727-1ae16566c98d
SUMMARY:12.a klassil ajaloo ja õiguse aluste koolieksam
DTSTAMP:20260430
DTSTART:20260430
DTEND:20260501
DURATION:P1D
LOCATION:
DESCRIPTION: <p><strong>Link: </strong>https://32kk.edu.ee/et/sundmuste-kalender/12a-klassil-ajaloo-ja-oiguse-aluste-koolieksam</p><p><strong>Hind: </strong></p>
STATUS:CONFIRMED
SEQUENCE:3
X-ALT-DESC;FMTTYPE=text/html:<p><strong>Link: </strong>https://32kk.edu.ee/et/sundmuste-kalender/12a-klassil-ajaloo-ja-oiguse-aluste-koolieksam</p><p><strong>Hind: </strong></p>
X-MICROSOFT-CDO-BUSYSTATUS:OOF
X-MICROSOFT-CDO-IMPORTANCE:1
X-MICROSOFT-DISALLOW-COUNTER:FALSE
X-MS-OLK-ALLOWEXTERNCHECK:TRUE
X-MS-OLK-CONFTYPE:0
X-MICROSOFT-CDO-ALLDAYEVENT:1
X-MICROSOFT-MSNCALENDAR-ALLDAYEVENT:1
END:VEVENT
END:VCALENDAR